BEGIN:VCALENDAR
VERSION:2.0
BEGIN:VEVENT
STATUS:TENTATIVE
DTSTART:20200204T153000Z
DTEND:20200204T183000Z
SUMMARY:Jornada de Actualización Tributaria: novedades IVA 2020, nuevos libros IRPF -IVA, novedades en los modelos 184,347 y 349, última normativa aprobada, consultas y resoluciones del TEAC relevantes
LOCATION:Auditorio del Business World de Alicante, 4ª Planta
DESCRIPTION:Jornada. Horario: 16:30 a 19:30
END:VEVENT
END:VCALENDAR
