BEGIN:VCALENDAR
VERSION:2.0
BEGIN:VEVENT
STATUS:TENTATIVE
DTSTART:20151006T143000Z
DTEND:20151006T173000Z
SUMMARY:Curso del nuevo Impuesto de Sociedades
LOCATION:Hotel ABBA Centrum Alicante, c/ Pintor Lorenzo Casanova, 31
DESCRIPTION:Jornada. de 16,30 a 19,30 horas
END:VEVENT
END:VCALENDAR
