BEGIN:VCALENDAR
VERSION:2.0
BEGIN:VEVENT
STATUS:TENTATIVE
DTSTART:20160302T150000Z
DTEND:20160302T190000Z
SUMMARY:Curso básico IVA
LOCATION:Sede de la Delegación Catalana. c/Provença, 281, bajos. Barcelona
DESCRIPTION:Seminario. Coordina: Jordi Bertran Ribera, Economista y Miembro de la AEDAF
END:VEVENT
END:VCALENDAR
