BEGIN:VCALENDAR
VERSION:2.0
BEGIN:VEVENT
STATUS:TENTATIVE
DTSTART:20160331T143000Z
DTEND:20160331T180000Z
SUMMARY:Jornadas Lanzarote 2016: II Jornadas de Empresa Familiar
LOCATION:Hotel Costa Calero (Urb. Puerto Calero s/n - Lanzarote)
DESCRIPTION:Jornada. 
END:VEVENT
END:VCALENDAR
