BEGIN:VCALENDAR
VERSION:2.0
BEGIN:VEVENT
STATUS:TENTATIVE
DTSTART:20160317T074500Z
DTEND:20160317T183000Z
SUMMARY:Jornada Actulización Fiscal  2016
LOCATION:CAMBIO DE LUGAR: Auditori IDEC-Unviersitat Pompeu Fabra. c/ Balmes 132-134. Barcelona
DESCRIPTION:Jornada. Coordina: Enrique de la Orden Ondategui
END:VEVENT
END:VCALENDAR
