BEGIN:VCALENDAR
VERSION:2.0
BEGIN:VEVENT
STATUS:TENTATIVE
DTSTART:20160321T170000Z
DTEND:20160321T183000Z
SUMMARY:Grupo IRPF: Planes de pensiones
LOCATION:Sede de la Delegación Catalana. c/Provença, 281, bajos. Barcelona
DESCRIPTION:Seminario. 
END:VEVENT
END:VCALENDAR
