BEGIN:VCALENDAR
VERSION:2.0
BEGIN:VEVENT
STATUS:TENTATIVE
DTSTART:20160407T163000Z
DTEND:20160407T180000Z
SUMMARY:Estrategias y argucias para litigar con dignidad
LOCATION:Sede Central, C/ Claudio Coello 106, 6º dcha.
DESCRIPTION:Tertulia. Ponente: José Ramón Cháves,magistrado de lo contencioso-administrativo
END:VEVENT
END:VCALENDAR
