BEGIN:VCALENDAR
VERSION:2.0
BEGIN:VEVENT
STATUS:TENTATIVE
DTSTART:20160404T160000Z
DTEND:20160404T173000Z
SUMMARY:Grupo Economia y Contabilidad: Sesión sobre la Guia del informe de las PYMES
LOCATION:Sede de la Delegación Catalana. c/Provença, 281, bajos. Barcelona
DESCRIPTION:Seminario. 
END:VEVENT
END:VCALENDAR
