BEGIN:VCALENDAR
VERSION:2.0
BEGIN:VEVENT
STATUS:TENTATIVE
DTSTART:20160330T140000Z
DTEND:20160330T173000Z
SUMMARY:Sociedades Civiles. Reformas en su tributación. Ultimos criterios de la DGT y AEAT
LOCATION:Sede Central, C/ Claudio Coello 106, 6º dcha.
DESCRIPTION:Jornada. 
END:VEVENT
END:VCALENDAR
