BEGIN:VCALENDAR
VERSION:2.0
BEGIN:VEVENT
STATUS:TENTATIVE
DTSTART:20160405T140000Z
DTEND:20160405T180000Z
SUMMARY:Curso IRPF 2016
LOCATION:Sede de la Delegación Catalana. c/Provença, 281, bajos. Barcelona
DESCRIPTION:Seminario. 
END:VEVENT
END:VCALENDAR
