BEGIN:VCALENDAR
VERSION:2.0
BEGIN:VEVENT
STATUS:TENTATIVE
DTSTART:20160418T140000Z
DTEND:20160418T173000Z
SUMMARY:Proyecto BEPS
LOCATION:Sede Central, C/ Claudio Coello 106, 6º dcha.
DESCRIPTION:Jornada. Ponentes: Eduardo Sanz Gadea y Daniel Gómez Olano
END:VEVENT
END:VCALENDAR
