BEGIN:VCALENDAR
VERSION:2.0
BEGIN:VEVENT
STATUS:TENTATIVE
DTSTART:20160331T143000Z
DTEND:20160331T183000Z
SUMMARY:Cierre Fiscal y Contable 2015. Renta 2015
LOCATION:Confederación  de Empresarios de La Coruña (CEC)
DESCRIPTION:Jornada. 
END:VEVENT
END:VCALENDAR
