BEGIN:VCALENDAR
VERSION:2.0
BEGIN:VEVENT
STATUS:TENTATIVE
DTSTART:20160329T140000Z
DTEND:20160329T170000Z
SUMMARY:Impuestos autonómicos y cedidos
LOCATION:Salón de la Facultad de Derecho de Albacete
DESCRIPTION:Jornada. 
END:VEVENT
END:VCALENDAR
