BEGIN:VCALENDAR
VERSION:2.0
BEGIN:VEVENT
STATUS:TENTATIVE
DTSTART:20160331T160000Z
DTEND:20160331T190000Z
SUMMARY:Curso Operaciones Vinculadas
LOCATION:Sede de la Delegación Catalana. c/Provença, 281, bajos. Barcelona
DESCRIPTION:Seminario. 
END:VEVENT
END:VCALENDAR
