BEGIN:VCALENDAR
VERSION:2.0
BEGIN:VEVENT
STATUS:TENTATIVE
DTSTART:20160418T160000Z
DTEND:20160418T173000Z
SUMMARY:Grupo IS: Deducciones fiscales por I+D+I
LOCATION:Sede de la Delegación Catalana. c/Provença, 281, bajos. Barcelona
DESCRIPTION:Seminario. de 18.00h a 19.30h. Abierto a colaboradores
END:VEVENT
END:VCALENDAR
