BEGIN:VCALENDAR
VERSION:2.0
BEGIN:VEVENT
STATUS:TENTATIVE
DTSTART:20160411T150000Z
DTEND:20160411T170000Z
SUMMARY:Tertulia Fiscal Impuesto sobre el Beneficio con la hoja A.P.V.
LOCATION:Sede AEDAF Canarias (c/ Rafael Nebot,5 - 1º Las Palmas de Gran Canaria)
DESCRIPTION:Tertulia. De 17:00 a 19:00 horas
END:VEVENT
END:VCALENDAR
