BEGIN:VCALENDAR
VERSION:2.0
BEGIN:VEVENT
STATUS:TENTATIVE
DTSTART:20160429T074500Z
DTEND:20160429T160000Z
SUMMARY:Campaña Renta 2015
LOCATION:Hotel Palacios de Alfaro  Avenida Zaragoza, 6
DESCRIPTION:Jornada. 
END:VEVENT
END:VCALENDAR
