BEGIN:VCALENDAR
VERSION:2.0
BEGIN:VEVENT
STATUS:TENTATIVE
DTSTART:20160502T160000Z
DTEND:20160502T173000Z
SUMMARY:Grupo Economia y Contabilidad: Sesión sobre la Resolución ICAC por la que se desarrollan las normas de registro, valoración y elaboración de las cuentas anuales para la contabilización del Impuesto sobre Sociedades
LOCATION:Sede de la Delegación Catalana. c/Provença, 281, bajos. Barcelona
DESCRIPTION:Seminario. de 18.00h a 19.30h
END:VEVENT
END:VCALENDAR
