BEGIN:VCALENDAR
VERSION:2.0
BEGIN:VEVENT
STATUS:TENTATIVE
DTSTART:20160421T100000Z
DTEND:20160421T120000Z
SUMMARY:Sesión informativa AEAT.  Novedades Campaña de Renta
LOCATION:Sede de la Delegación Catalana. c/Provença, 281, bajos. Barcelona
DESCRIPTION:Seminario. de 12.00h a 14.00h
END:VEVENT
END:VCALENDAR
