BEGIN:VCALENDAR
VERSION:2.0
BEGIN:VEVENT
STATUS:TENTATIVE
DTSTART:20160425T143000Z
DTEND:20160425T173000Z
SUMMARY:Renta y Patrimonio 2015. Novedades y cuestiones prácticas
LOCATION:Hotel ABBA Centrum Alicante (Salón Adriático), C/ Pintor Lorenzo Casanova, 31, 03003-Alicante, 
DESCRIPTION:Jornada. 
END:VEVENT
END:VCALENDAR
