BEGIN:VCALENDAR
VERSION:2.0
BEGIN:VEVENT
STATUS:TENTATIVE
DTSTART:20160509T160000Z
DTEND:20160509T173000Z
SUMMARY:Grupo Entidades no Lucrativas: Memoria de las cuentas anuales para las ESFL
LOCATION:Sede de la Delegación Catalana. c/Provença, 281, bajos. Barcelona
DESCRIPTION:Seminario. de 18.00h a 19.30h
END:VEVENT
END:VCALENDAR
