BEGIN:VCALENDAR
VERSION:2.0
BEGIN:VEVENT
STATUS:TENTATIVE
DTSTART:20160427T140000Z
DTEND:20160427T170000Z
SUMMARY:Procedimiento Económico-Administrativo
LOCATION:Salón de la Facultad de Derecho de Albacete, Pza. de la Universidad, 1, 02071-Albacete
DESCRIPTION:Jornada. 
END:VEVENT
END:VCALENDAR
