BEGIN:VCALENDAR
VERSION:2.0
BEGIN:VEVENT
STATUS:TENTATIVE
DTSTART:20160510T100000Z
DTEND:20160510T123000Z
SUMMARY:Jornada El control de Ayudas de Estado respecto al AIEM
LOCATION:Sede AEDAF Canarias (c/ Rafael Nebot,5 - 1º Las Palmas de Gran Canaria)
DESCRIPTION:Jornada. Videostreaming con Tenerife en el Colegio de Titulados Mercantiles y Empresariales de Tenerife (C/ de La Tolerancia Nº 14, 1º 38001 Santa Cruz de Tenerife)
END:VEVENT
END:VCALENDAR
