BEGIN:VCALENDAR
VERSION:2.0
BEGIN:VEVENT
STATUS:TENTATIVE
DTSTART:20160509T140000Z
DTEND:20160509T170000Z
SUMMARY:Campaña de IRPF 2015
LOCATION:Sede Central, C/ Claudio Coello 106, 6º dcha.
DESCRIPTION:Jornada. 
END:VEVENT
END:VCALENDAR
