BEGIN:VCALENDAR
VERSION:2.0
BEGIN:VEVENT
STATUS:TENTATIVE
DTSTART:20160527T080000Z
DTEND:20160527T120000Z
SUMMARY:V Encuentro de asociados de Castilla y León
LOCATION:Meliá Recoletos Valladolid
DESCRIPTION:Jornada. 
END:VEVENT
END:VCALENDAR
