BEGIN:VCALENDAR
VERSION:2.0
BEGIN:VEVENT
STATUS:TENTATIVE
DTSTART:20160609T073000Z
DTEND:20160609T090000Z
SUMMARY:La impugnación de actos tributarios locales (IBI, tasas, IIVTNU)
LOCATION:Sede Central, C/ Claudio Coello 106, 6º dcha.
DESCRIPTION:Tertulia. Ponente: Diego Marín Barnuevo,Catedrático en la Universidad Autónoma de Madrid 
END:VEVENT
END:VCALENDAR
