BEGIN:VCALENDAR
VERSION:2.0
BEGIN:VEVENT
STATUS:TENTATIVE
DTSTART:20160530T160000Z
DTEND:20160530T173000Z
SUMMARY:Grupo Nuevas Tecnologias: ¿Como podemos ganar eficiencia?
LOCATION:Sede de la Delegación Catalana. c/Provença, 281, bajos. Barcelona
DESCRIPTION:Seminario. de 18.00h a 19.30h
END:VEVENT
END:VCALENDAR
