BEGIN:VCALENDAR
VERSION:2.0
BEGIN:VEVENT
STATUS:TENTATIVE
DTSTART:20160609T080000Z
DTEND:20160609T120000Z
SUMMARY:Jornada de Actualización del Impuesto sobre Sociedades
LOCATION:Ilustre Colegio de Abogados de Sevilla. Calle Chapineros, 6
DESCRIPTION:Jornada. Ponentes: Murli Kessomal, (Socio de Deloitte y miembro de la AEDAF) y Claudia Delgado D'Antonio (Inspectora de Hacienda del Estado, Administradora de la Agencia Estatal de Administración Tributaria Sevilla Heliópolis)
END:VEVENT
END:VCALENDAR
