BEGIN:VCALENDAR
VERSION:2.0
BEGIN:VEVENT
STATUS:TENTATIVE
DTSTART:20160527T080000Z
DTEND:20160527T120000Z
SUMMARY:El testamento del empresario como instrumento  de planificación en la transmisión de la Empresa Familiar
LOCATION:Hotel Bahía Calle Cádiz, 22
DESCRIPTION:Jornada. 
END:VEVENT
END:VCALENDAR
