BEGIN:VCALENDAR
VERSION:2.0
BEGIN:VEVENT
STATUS:TENTATIVE
DTSTART:20160606T071500Z
DTEND:20160606T121500Z
SUMMARY:Las operaciones vinculadas después de la Reforma Fiscal Una visión práctica
LOCATION:HOTEL AYRE ASTORIA PALACE Plaza Rodrigo Botet, nº 5. 
DESCRIPTION:Jornada. 
END:VEVENT
END:VCALENDAR
