BEGIN:VCALENDAR
VERSION:2.0
BEGIN:VEVENT
STATUS:TENTATIVE
DTSTART:20171025T180000Z
DTEND:20171025T200000Z
SUMMARY:XXXII Congreso AEDAF
LOCATION:Ibercaja Patio de la Infanta. Zaragoza
DESCRIPTION:Jornada. 
END:VEVENT
END:VCALENDAR
