BEGIN:VCALENDAR
VERSION:2.0
BEGIN:VEVENT
STATUS:TENTATIVE
DTSTART:20160707T143000Z
DTEND:20160707T170000Z
SUMMARY:Análisis de las novedades del Recurso de Casación ante el Tribunal Supremo
LOCATION:Sede Central, C/ Claudio Coello 106, 6º dcha.
DESCRIPTION:Jornada. 
END:VEVENT
END:VCALENDAR
