BEGIN:VCALENDAR
VERSION:2.0
BEGIN:VEVENT
STATUS:TENTATIVE
DTSTART:20160928T160000Z
DTEND:20160928T180000Z
SUMMARY:Tratamiento tributario de las retribuciones de los socios y administradores. Estado actual de la cuestión
LOCATION:Salón de Actos del Colegio de Abogados de Sevilla
DESCRIPTION:Jornada. Ponente: Juan Bautista Bautista Tineo, Inspector Regional Adjunto de Sevilla, Agencia Estatal de Administración Tributaria
END:VEVENT
END:VCALENDAR
