BEGIN:VCALENDAR
VERSION:2.0
BEGIN:VEVENT
STATUS:TENTATIVE
DTSTART:20160926T143000Z
DTEND:20160926T183000Z
SUMMARY:Taller Práctico en Prevención del Blanqueo de Capitales y Financiación del Terrorismo / Modelo 720
LOCATION:Sede AEDAF Canarias (c/ Rafael Nebot,5 - 1º Las Palmas de Gran Canaria)
DESCRIPTION:Jornada. De 16:30 a 20:30 horas
END:VEVENT
END:VCALENDAR
