BEGIN:VCALENDAR
VERSION:2.0
BEGIN:VEVENT
STATUS:TENTATIVE
DTSTART:20161004T140000Z
DTEND:20161004T170000Z
SUMMARY:Ayuda a los profesionales a mejorar sus resultados y calidad de vida / Compliance Penal. Responsabilidad Penal de las Personas Jurídicas
LOCATION:Sede AEDAF Canarias (c/ Rafael Nebot,5 - 1º Las Palmas de Gran Canaria)
DESCRIPTION:Jornada. De 16:00 a 19:00 horas
END:VEVENT
END:VCALENDAR
