BEGIN:VCALENDAR
VERSION:2.0
BEGIN:VEVENT
STATUS:TENTATIVE
DTSTART:20161017T150000Z
DTEND:20161017T170000Z
SUMMARY:Las Obligaciones Tributarias Conexas. Manual de Uso y Consumo
LOCATION:Sede AEDAF Canarias (c/ Rafael Nebot,5 - 1º Las Palmas de Gran Canaria)
DESCRIPTION:Jornada. De 17:00 a 19:00 horas
END:VEVENT
END:VCALENDAR
