BEGIN:VCALENDAR
VERSION:2.0
BEGIN:VEVENT
STATUS:TENTATIVE
DTSTART:20160921T140000Z
DTEND:20160921T180000Z
SUMMARY:Las operaciones vinculadas después de la Reforma Fiscal. Una visión práctica.
LOCATION:Sede Central, C/ Claudio Coello 106, 6º dcha.
DESCRIPTION:Jornada. Ponente: David Soriano, Auditor de Cuentas. Miembro AEDAF 
END:VEVENT
END:VCALENDAR
