BEGIN:VCALENDAR
VERSION:2.0
BEGIN:VEVENT
STATUS:TENTATIVE
DTSTART:20160929T160000Z
DTEND:20160929T180000Z
SUMMARY:LAS OBLIGACIONES TRIBUTARIAS CONEXAS: Manual de uso y consumo
LOCATION:Sede Central, C/ Claudio Coello 106, 6º dcha.
DESCRIPTION:Jornada. Ponente: Javier Gómez Taboada. Miembro de AEDAF
END:VEVENT
END:VCALENDAR
