BEGIN:VCALENDAR
VERSION:2.0
BEGIN:VEVENT
STATUS:TENTATIVE
DTSTART:20161003T150000Z
DTEND:20161003T180000Z
SUMMARY:Última jurisprudencia de la Audiencia Nacional
LOCATION:Hotel Ayre Astoria Palace. Plaza Rodrigo Botet, nº 5. Valencia
DESCRIPTION:Jornada. Ponente: D. Jesús María Calderón González, Magistrado, Presidente de la Sección Segunda de la Audiencia Nacional
END:VEVENT
END:VCALENDAR
