BEGIN:VCALENDAR
VERSION:2.0
BEGIN:VEVENT
STATUS:TENTATIVE
DTSTART:20160919T080000Z
DTEND:20160919T160000Z
SUMMARY:I Jornadas AEDAF de Empresa Familiar en Valencia
LOCATION:HOTEL AYRE ASTORIA PALACE Plaza Rodrigo Botet, nº 5. 
DESCRIPTION:Jornada. 
END:VEVENT
END:VCALENDAR
