BEGIN:VCALENDAR
VERSION:2.0
BEGIN:VEVENT
STATUS:TENTATIVE
DTSTART:20161026T073000Z
DTEND:20161026T173000Z
SUMMARY:Evasión o elusión fiscal: enfoque y significación de la planificación fiscal agresiva
LOCATION:Salón de grados de la Facultad de Derecho y CCSS de Ciudad Real (UCLM)
DESCRIPTION:Jornada. 
END:VEVENT
END:VCALENDAR
