BEGIN:VCALENDAR
VERSION:2.0
BEGIN:VEVENT
STATUS:TENTATIVE
DTSTART:20160922T143000Z
DTEND:20160922T180000Z
SUMMARY:Aspectos Fiscales del Derecho Foral aragonés
LOCATION:Real e Ilustre Colegio de Abogados de Zaragoza  C/ Don Jaime I, 18 Salón de Grados, Planta 3ª
DESCRIPTION:Jornada. 
END:VEVENT
END:VCALENDAR
