BEGIN:VCALENDAR
VERSION:2.0
BEGIN:VEVENT
STATUS:TENTATIVE
DTSTART:20161215T163000Z
DTEND:20161215T190000Z
SUMMARY:Cierre Fiscal
LOCATION:Hotel Urban Madrid, Carrera de San Jerónimo, 34
DESCRIPTION:Jornada. 
END:VEVENT
END:VCALENDAR
