BEGIN:VCALENDAR
VERSION:2.0
BEGIN:VEVENT
STATUS:TENTATIVE
DTSTART:20170209T080000Z
DTEND:20170209T190000Z
SUMMARY:Jornadas Regionales Meloneras 2017
LOCATION:Hotel H10 Playa Meloneras Palace (C/ Mar Caspio, 5 – 35100 Playa Meloneras, Gran Canaria)
DESCRIPTION:Jornada. Homologación por el ICAC de 6 horas en "Otras Materias"
END:VEVENT
END:VCALENDAR
