BEGIN:VCALENDAR
VERSION:2.0
BEGIN:VEVENT
STATUS:TENTATIVE
DTSTART:20161103T150000Z
DTEND:20161103T190000Z
SUMMARY:Jornadas Tenerife 2016
LOCATION:La Laguna, Tenerife
DESCRIPTION:Jornada. 
END:VEVENT
END:VCALENDAR
