BEGIN:VCALENDAR
VERSION:2.0
BEGIN:VEVENT
STATUS:TENTATIVE
DTSTART:20161110T083000Z
DTEND:20161110T190000Z
SUMMARY:I Jornadas sobre Consolidación Contable y Fiscal
LOCATION:NH Paseo de la Habana. Paseo de la Habana 73
DESCRIPTION:Jornada. Horario: 09:30 a 20:00
END:VEVENT
END:VCALENDAR
