BEGIN:VCALENDAR
VERSION:2.0
BEGIN:VEVENT
STATUS:TENTATIVE
DTSTART:20161124T083000Z
DTEND:20161124T164500Z
SUMMARY:II Seminario de Derecho Mercantil y Tributario
LOCATION:Salón de grados de la Facultad de Derecho de la Universidad Complutense de Madrid
DESCRIPTION:Seminario. 
END:VEVENT
END:VCALENDAR
