BEGIN:VCALENDAR
VERSION:2.0
BEGIN:VEVENT
STATUS:TENTATIVE
DTSTART:20161026T140000Z
DTEND:20161026T170000Z
SUMMARY:Aspectos conflictivos entorno al concepto de EP en la tributación directa e indirecta
LOCATION:ICAIB - La Rambla, 10
DESCRIPTION:Jornada. de 16:00 a 19:00
END:VEVENT
END:VCALENDAR
