BEGIN:VCALENDAR
VERSION:2.0
BEGIN:VEVENT
STATUS:TENTATIVE
DTSTART:20161117T151500Z
DTEND:20161117T190000Z
SUMMARY:Aspectos problemáticos de la LGT
LOCATION:Confederación  de Empresarios de La Coruña (CEC) Plaza de Luís Seoane, 1-11,
DESCRIPTION:Jornada. de 16:15 a 20:00
END:VEVENT
END:VCALENDAR
