BEGIN:VCALENDAR
VERSION:2.0
BEGIN:VEVENT
STATUS:TENTATIVE
DTSTART:20161102T153000Z
DTEND:20161102T190000Z
SUMMARY:La modernización tecnológica del procedimiento  administrativo y las relaciones con los ciudadanos: Nueva Ley 39/2015 de Procedimiento Administrativo Común
LOCATION:Instituto de Censores Jurados de Cuentas. Plaza Fuensanta,  2 - 7º B.
DESCRIPTION:Jornada. de 16:30 a 20:00
END:VEVENT
END:VCALENDAR
